BEGIN:VCALENDAR
VERSION:2.0
PRODID:-//hacksw/handcal//NONSGML v1.0//EN
BEGIN:VEVENT
UID:Mon Apr 20 15:03:17 2026@amcham.sk/export
DTSTART:20260504T160000TZ:+02
DTEND:20260504T193000TZ:+02
SUMMARY:Speed Business Meeting
URL:https://amcham.sk/events/3660/speed-business-meeting
LOCATION:Lindner Hotel Bratislava - JDV by Hyatt, Metodova 4
DESCRIPTION:ChamCham Networking Event
END:VEVENT
END:VCALENDAR
