BEGIN:VCALENDAR
VERSION:2.0
PRODID:-//hacksw/handcal//NONSGML v1.0//EN
BEGIN:VEVENT
UID:Tue Apr 21 18:49:01 2026@amcham.sk/export
DTSTART:20260513T170000TZ:+02
DTEND:20260513T193000TZ:+02
SUMMARY:Data-Driven Sales powered by AI
URL:https://amcham.sk/events/3661/data-driven-sales-powered-by-ai
LOCATION:boat Sundeck, Bratislava
DESCRIPTION:organized by Salesforce

END:VEVENT
END:VCALENDAR
